BEGIN:VCALENDAR
VERSION:2.0
PRODID:-//Squarespace Inc/Squarespace 6//v6//EN
BEGIN:VEVENT
UID:5dbf835711cc3a00ac79964e@squarespace.com
DTSTAMP:20200115T020047Z
DTSTART:20200112T230000Z
DTEND:20200113T003000Z
SUMMARY:Courage Club
GEO:41.920918;-87.6332
LOCATION:Cafe Zoo\,\, 23 High Street\, Drysdale\, VIC 3222
END:VEVENT
END:VCALENDAR
