BEGIN:VCALENDAR
VERSION:2.0
PRODID:-//Squarespace Inc/Squarespace 6//v6//EN
BEGIN:VEVENT
UID:5da3df3ee7deee2135f28eb9@squarespace.com
DTSTAMP:20191028T103138Z
DTSTART:20191231T030000Z
DTEND:20191231T040000Z
SUMMARY:DISC Advanced &amp\; Team Workshops
END:VEVENT
END:VCALENDAR
