BEGIN:VCALENDAR
VERSION:2.0
PRODID:-//Squarespace Inc/Squarespace 6//v6//EN
BEGIN:VEVENT
UID:5da3d596a8be366f5cd66778@squarespace.com
DTSTAMP:20200120T051323Z
DTSTART:20200218T223000Z
DTEND:20201202T013000Z
SUMMARY:Redefine 2020: Women's Network Workshop Series
GEO:-38.141675;144.309458
LOCATION:Truffleduck\,\, 66 Hyland Street\, Fyansford\, VIC\, 3218\, Austra
 lia
END:VEVENT
END:VCALENDAR
