BEGIN:VCALENDAR
VERSION:2.0
PRODID:-//Squarespace Inc/Squarespace 6//v6//EN
BEGIN:VEVENT
UID:5da3d9fba8be366f5cd69ae1@squarespace.com
DTSTAMP:20200115T015300Z
DTSTART:20200203T223000Z
DTEND:20200505T050000Z
SUMMARY:RENEW YOU and Love your life
END:VEVENT
END:VCALENDAR
