BEGIN:VCALENDAR
VERSION:2.0
PRODID:-//Squarespace Inc/Squarespace 6//v6//EN
BEGIN:VEVENT
UID:5da3dbdfff3f1e0b3347de7e@squarespace.com
DTSTAMP:20191028T103124Z
DTSTART:20191231T023000Z
DTEND:20191231T033000Z
SUMMARY:Renew You: Two-Day Workshop
END:VEVENT
END:VCALENDAR
