BEGIN:VCALENDAR
VERSION:2.0
PRODID:-//Squarespace Inc/Squarespace 6//v6//EN
BEGIN:VEVENT
UID:5da3dde2daaa2310a0812fb4@squarespace.com
DTSTAMP:20191028T103149Z
DTSTART:20191231T030000Z
DTEND:20191231T040000Z
SUMMARY:Reset for Results Team Program
END:VEVENT
END:VCALENDAR
