BEGIN:VCALENDAR
VERSION:2.0
PRODID:-//Squarespace Inc/Squarespace 6//v6//EN
BEGIN:VEVENT
UID:5da3d892bc05e525b7bdb07c@squarespace.com
DTSTAMP:20200115T015632Z
DTSTART:20200317T223000Z
DTEND:20200319T053000Z
SUMMARY:Ignite Workshop - Leadership begins with you
GEO:-38.149918;144.361719
LOCATION:Geelong\, Australia
END:VEVENT
END:VCALENDAR
